BEGIN:VCALENDAR
VERSION:2.0
PRODID:-//Uccelli-Society - ECPv6.15.20//NONSGML v1.0//EN
CALSCALE:GREGORIAN
METHOD:PUBLISH
X-ORIGINAL-URL:https://uccelli-society.ch
X-WR-CALDESC:Veranstaltungen im Uccelli-Society
REFRESH-INTERVAL;VALUE=DURATION:PT1H
X-Robots-Tag:noindex
X-PUBLISHED-TTL:PT1H
BEGIN:VTIMEZONE
TZID:Europe/Zurich
BEGIN:DAYLIGHT
TZOFFSETFROM:+0100
TZOFFSETTO:+0200
TZNAME:CEST
DTSTART:20240331T010000
END:DAYLIGHT
BEGIN:STANDARD
TZOFFSETFROM:+0200
TZOFFSETTO:+0100
TZNAME:CET
DTSTART:20241027T010000
END:STANDARD
BEGIN:DAYLIGHT
TZOFFSETFROM:+0100
TZOFFSETTO:+0200
TZNAME:CEST
DTSTART:20250330T010000
END:DAYLIGHT
BEGIN:STANDARD
TZOFFSETFROM:+0200
TZOFFSETTO:+0100
TZNAME:CET
DTSTART:20251026T010000
END:STANDARD
BEGIN:DAYLIGHT
TZOFFSETFROM:+0100
TZOFFSETTO:+0200
TZNAME:CEST
DTSTART:20260329T010000
END:DAYLIGHT
BEGIN:STANDARD
TZOFFSETFROM:+0200
TZOFFSETTO:+0100
TZNAME:CET
DTSTART:20261025T010000
END:STANDARD
END:VTIMEZONE
BEGIN:VEVENT
DTSTART;TZID=Europe/Zurich:20250530T190000
DTEND;TZID=Europe/Zurich:20250530T233000
DTSTAMP:20260424T142017
CREATED:20250310T113244Z
LAST-MODIFIED:20250505T144231Z
UID:1611-1748631600-1748647800@uccelli-society.ch
SUMMARY:Konzertreihe - nightshift music II
DESCRIPTION:NightShift Music setzt sich nachhaltig dafür ein\, die lokale Musikszene zu stärken und jungen Künstler*innen echte Auftrittschancen zu bieten. Unterstützt von Uccelli Schweiz und starken Partnern vor Ort sind wir bestens aufgestellt\, um unsere Konzertreihe weiter auszubauen\, neue Subkulturen zu vernetzen und auch zukünftig marginalisierte Talente sichtbar zu machen. Mit professioneller Produktions- und Dokumentations­begleitung schaffen wir bleibende Impulse für die urbane Kulturlandschaft. \nACTS:\n– werden noch bekannt gegeben \nTickets findet ihr hier:\n– https://eventfrog.ch/de/p/konzert/hip-hop-rap/nightshift-music-konzertreihe-7322922116998787639.html
URL:https://uccelli-society.ch/event/konzertreihe-nightshift-music-i/
LOCATION:Lila Villa\, Limmattalstrasse 214\, Höngg\, Zürich\, 8049\, Switzerland
END:VEVENT
BEGIN:VEVENT
DTSTART;TZID=Europe/Zurich:20250508T200000
DTEND;TZID=Europe/Zurich:20250508T220000
DTSTAMP:20260424T142017
CREATED:20250313T152233Z
LAST-MODIFIED:20250505T143527Z
UID:1679-1746734400-1746741600@uccelli-society.ch
SUMMARY:Uccelli FC Fussballtraining
DESCRIPTION:Die Uccelli Liga ist eine niedrigschwellige Fussball-Liga\, die Menschen aller Altersgruppen und Herkunfts­gemeinschaften zusammenbringt. Mit regelmässigen Ligaspielen\, Trainings und begleitenden Community-Events fördern wir körperliche Aktivität\, Teamgeist und interkulturellen Austausch in einem offenen\, fairen Umfeld.
URL:https://uccelli-society.ch/event/uccelli-fc-fussball/
LOCATION:Schulhaus Bläsi\, Bläsistrasse 2\, Zürich\, Zürich\, 8049\, Switzerland
CATEGORIES:Sport
END:VEVENT
BEGIN:VEVENT
DTSTART;TZID=Europe/Zurich:20250426T160000
DTEND;TZID=Europe/Zurich:20250426T220000
DTSTAMP:20260424T142017
CREATED:20250310T112804Z
LAST-MODIFIED:20250313T090929Z
UID:1608-1745683200-1745704800@uccelli-society.ch
SUMMARY:Wohltätigkeitsevent - Skills4Growth
DESCRIPTION:Die Uccellis freuen sich riesig\, DICH zu unserem Wohltätigkeitsevent für Ghana einzuladen! 🌍✨ \nWir sammeln Spenden\, um benachteiligten Menschen in Ghana zu helfen\, indem wir ihnen praktische Fähigkeiten wie Nähen\, Haarflechten und vieles mehr vermitteln – und ihnen so die Werkzeuge an die Hand geben\, um eine nachhaltige Zukunft aufzubauen. 🫂 \nDiese Initiative ist Teil unseres Projekts: Skills4Growth. \nKomm zu einem unvergesslichen Abend voller Unterhaltung\, Musik und Sinn! 🤜🤛 \n🎤 Erlebe einen Live-Auftritt von Zürchs bester Hip-Hop-Gruppe\, Un1ty! 🎤
URL:https://uccelli-society.ch/event/wohltaetigkeitsevent-skills4growth/
LOCATION:Karl der Grosse\, Kirchgasse 14\, Zürich\, Zürich\, 8001\, Switzerland
END:VEVENT
BEGIN:VEVENT
DTSTART;TZID=Europe/Zurich:20250401T180000
DTEND;TZID=Europe/Zurich:20250401T190000
DTSTAMP:20260424T142017
CREATED:20250313T151913Z
LAST-MODIFIED:20250313T151913Z
UID:1677-1743530400-1743534000@uccelli-society.ch
SUMMARY:Körpersprache : Wie zuverlässig ist sie ?
DESCRIPTION:Körpersprache : Wie zuverlässig ist sie ?
URL:https://uccelli-society.ch/event/koerpersprache-wie-zuverlaessig-ist-sie/
LOCATION:Zürich
CATEGORIES:Psychologie
END:VEVENT
BEGIN:VEVENT
DTSTART;TZID=Europe/Zurich:20250401T180000
DTEND;TZID=Europe/Zurich:20250401T190000
DTSTAMP:20260424T142017
CREATED:20250313T151738Z
LAST-MODIFIED:20250313T151749Z
UID:1674-1743530400-1743534000@uccelli-society.ch
SUMMARY:Persönlichkeit III - Kann sie verändert werden ?
DESCRIPTION:Persönlichkeits III – Kann sie verändert werden ?
URL:https://uccelli-society.ch/event/persoenlichkeits-iii-kann-sie-veraendert-werden/
LOCATION:Zürich
CATEGORIES:Psychologie
END:VEVENT
BEGIN:VEVENT
DTSTART;TZID=Europe/Zurich:20250401T180000
DTEND;TZID=Europe/Zurich:20250401T190000
DTSTAMP:20260424T142017
CREATED:20250313T151635Z
LAST-MODIFIED:20250313T152333Z
UID:1672-1743530400-1743534000@uccelli-society.ch
SUMMARY:Persönlichkeit II - Wie entwickelt sie sich ?
DESCRIPTION:Persönlichkeits II – Wie entwickelt sie sich ?
URL:https://uccelli-society.ch/event/persoenlichkeit-ii-wie-entwickelt-sie-sich/
LOCATION:Zürich
CATEGORIES:Psychologie
END:VEVENT
BEGIN:VEVENT
DTSTART;TZID=Europe/Zurich:20250401T180000
DTEND;TZID=Europe/Zurich:20250401T190000
DTSTAMP:20260424T142017
CREATED:20250313T144455Z
LAST-MODIFIED:20250313T144455Z
UID:1663-1743530400-1743534000@uccelli-society.ch
SUMMARY:Persönlichkeit I: Was ist sie und warum ist sie wichtig ?
DESCRIPTION:Persönlichkeit I: Was ist sie und warum ist sie wichtig ?
URL:https://uccelli-society.ch/event/persoenlichkeit-i-was-ist-sie-und-warum-ist-sie-wichtig/
LOCATION:Zürich
CATEGORIES:Kurs,Psychologie
END:VEVENT
END:VCALENDAR